BEGIN:VCALENDAR
VERSION:2.0
PRODID:-//lecadranensues.fr - ECPv6.8.2.1//NONSGML v1.0//EN
CALSCALE:GREGORIAN
METHOD:PUBLISH
X-WR-CALNAME:lecadranensues.fr
X-ORIGINAL-URL:https://lecadranensues.fr
X-WR-CALDESC:Évènements pour lecadranensues.fr
REFRESH-INTERVAL;VALUE=DURATION:PT1H
X-Robots-Tag:noindex
X-PUBLISHED-TTL:PT1H
BEGIN:VTIMEZONE
TZID:Europe/Paris
BEGIN:DAYLIGHT
TZOFFSETFROM:+0100
TZOFFSETTO:+0200
TZNAME:CEST
DTSTART:20260329T010000
END:DAYLIGHT
BEGIN:STANDARD
TZOFFSETFROM:+0200
TZOFFSETTO:+0100
TZNAME:CET
DTSTART:20261025T010000
END:STANDARD
END:VTIMEZONE
BEGIN:VEVENT
DTSTART;TZID=Europe/Paris:20260117T080000
DTEND;TZID=Europe/Paris:20260118T170000
DTSTAMP:20260419T234014
CREATED:20250616T080431Z
LAST-MODIFIED:20250616T080431Z
UID:1593-1768636800-1768755600@lecadranensues.fr
SUMMARY:Fêtes de la Saint Maur
DESCRIPTION:LE SAMEDI 17 JANVIER \n\n10h : rendez-vous sur le parvis de l’hôtel de Ville pour une matinée réservée aux familles avec jeux en bois\, ateliers maquillage et structures gonflables.\n21h : Soirée Miss Ensuès 2026 au Cadran\n\nVous avez 16 ans et plus\, vous résidez sur la Côte Bleue et vous souhaitez participer au concours de Miss Ensuès 2026. Vous pouvez vous inscrire auprès de notre service Culture et Festivités au 04 42 43 51 06. De nombreux lots seront à gagner ! \nLE DIMANCHE 18 JANVIER \n\n10h : traditionnelle messe à l’Eglise\, suivie du défilé dans les rues du village. L’office sera suivi de la procession\, du cortège dans le centre du village et de la distribution de « pain béni » (animation du cortège avec des chars et en musique avec un groupe folklorique). Vous êtes\, d’ailleurs\, tous invités à vous habiller en habit provençal.\n13h : radio crochet / repas / spectacle musical / bal\, dans la salle du Cadran.\n\nVenez découvrir un show d’exception assuré par un grand orchestre et participer à un repas. La participation au repas donne droit au spectacle. \nOuverture de la billetterie à l’accueil Mairie à partir du 5/01/2026
URL:https://lecadranensues.fr/event/fetes-de-la-saint-maur-2/
CATEGORIES:Evènement de la Ville
ATTACH;FMTTYPE=image/jpeg:https://lecadranensues.fr/wp-content/uploads/2023/06/IMG_0894.jpg
END:VEVENT
BEGIN:VEVENT
DTSTART;TZID=Europe/Paris:20260130T203000
DTEND;TZID=Europe/Paris:20260130T220000
DTSTAMP:20260419T234014
CREATED:20250616T144639Z
LAST-MODIFIED:20250623T131754Z
UID:1595-1769805000-1769810400@lecadranensues.fr
SUMMARY:AVALON CELTIC DANCES
DESCRIPTION:En partenariat avec ALG Spectacles \nVéritable spectacle visuel\, AVALON CELTIC DANCES s’inspire de la comédie musicale et vous propose des chorégraphies riches et une mise en scène innovante qui vous transporteront directement en Irlande. Danseurs virtuoses et musiciens hors pair vous offriront 1h30 de show sans filet mettant en valeur tous les aspects de la culture irlandaise. \nLa scénographie de Catríona Ní Leamhcán puise dans le registre de la comédie musicale évoquant l’ambiance incomparable des pubs irlandais ou des lacs du Connemara\, avec des défis pleins d’humour entre danseurs et musiciens. Mélange d’époustouflantes chorégraphies de claquettes\, de joyeuses scènes de Céilis\, et des plus belles chansons traditionnelles d’Irlande\, les musiciens et danseurs vous démontreront qu’ils sont aujourd’hui l’une des meilleures références en matière de spectacles celtiques. \nTarif unique : 28€ \nAssis numéroté \nBilletterie en ligne ou en Mairie
URL:https://lecadranensues.fr/event/avalon-celtic-dances/
LOCATION:Salle de Spectacle du Cadran\, Le Cadran\, Ensuès-la-Redonne\, 13820\, France
CATEGORIES:Danse,Spectacle
ATTACH;FMTTYPE=image/jpeg:https://lecadranensues.fr/wp-content/uploads/2025/06/Photographe-Jerome-Halatre-Avalon-Celtic-Dances-Cie-AKL-Sicalines-5-scaled.jpg
END:VEVENT
BEGIN:VEVENT
DTSTART;TZID=Europe/Paris:20260131T080000
DTEND;TZID=Europe/Paris:20260131T120000
DTSTAMP:20260419T234014
CREATED:20250616T144629Z
LAST-MODIFIED:20250617T072550Z
UID:1598-1769846400-1769860800@lecadranensues.fr
SUMMARY:Atelier cuisine "voyage autour des îles grecques"
DESCRIPTION:Au cours de cet atelier\, vous serez guidés par un chef cuisinier dans la création de plats savoureux qui vous feront voyager au cœur même de la Grèce. Chaque participant repartira avec 2 portions de chaque plat. Voici le menu : \n\nEn entrée\, une salade authentique Tzatziki\nEn plat\, une Moussaka traditionnelle (finition cuisson au four)\nEn dessert\, un yaourt Grec à l’orange et à la menthe\n\nInscriptions au 04 42 44 88 88 \nTarif unique : 34€
URL:https://lecadranensues.fr/event/atelier-cuisine-voyage-autour-des-iles-grecques/
LOCATION:Salle de Spectacle du Cadran\, Le Cadran\, Ensuès-la-Redonne\, 13820\, France
CATEGORIES:Atelier de Cuisine
ATTACH;FMTTYPE=image/png:https://lecadranensues.fr/wp-content/uploads/2025/06/Capture-decran-2025-06-16-101744.png
END:VEVENT
END:VCALENDAR