BEGIN:VCALENDAR
VERSION:2.0
PRODID:-//lecadranensues.fr - ECPv6.8.2.1//NONSGML v1.0//EN
CALSCALE:GREGORIAN
METHOD:PUBLISH
X-ORIGINAL-URL:https://lecadranensues.fr
X-WR-CALDESC:Évènements pour lecadranensues.fr
REFRESH-INTERVAL;VALUE=DURATION:PT1H
X-Robots-Tag:noindex
X-PUBLISHED-TTL:PT1H
BEGIN:VTIMEZONE
TZID:Europe/Paris
BEGIN:DAYLIGHT
TZOFFSETFROM:+0100
TZOFFSETTO:+0200
TZNAME:CEST
DTSTART:20250330T010000
END:DAYLIGHT
BEGIN:STANDARD
TZOFFSETFROM:+0200
TZOFFSETTO:+0100
TZNAME:CET
DTSTART:20251026T010000
END:STANDARD
END:VTIMEZONE
BEGIN:VEVENT
DTSTART;TZID=Europe/Paris:20251004T203000
DTEND;TZID=Europe/Paris:20251004T223000
DTSTAMP:20260420T042545
CREATED:20250616T144720Z
LAST-MODIFIED:20250623T131857Z
UID:1571-1759609800-1759617000@lecadranensues.fr
SUMMARY:Nordine Ganso "Ultra Violet"
DESCRIPTION:À 24 ans\, Nordine Ganso fait partie des humoristes de cette nouvelle génération qui aspirent à devenir grands. \nCe pur produit bordelais a enchaîné les scènes ouvertes parisiennes les plus réputées pour y forger un humour bien à lui\, où il raconte ses anecdotes avec une sincérité et une finesse déconcertantes. Il est membre émérite de la Troupe du Jamel Comedy Club depuis 2019 et vient de jouer trois mois au Palais des Glaces\, affichant complet. \nCe prodige sait aussi s’emparer de sujets de société\, influencé par ses pairs\, Fary et Kyan Khojandy ou encore Paul Mirabel. \nGardez l’œil ouvert sur les réseaux sociaux\, la télévision et la radio. Artiste à suivre ! \n\nTarif plein : 28€\nTarif réduit : 21€\nFidélité : 17€\nAssis numéroté\n\nBilletterie en Mairie ou en ligne\nRenseignements : 04 42 44 88 88
URL:https://lecadranensues.fr/event/nordine-ganso-ultra-violet/
LOCATION:Salle de Spectacle du Cadran\, Le Cadran\, Ensuès-la-Redonne\, 13820\, France
CATEGORIES:Humour
ATTACH;FMTTYPE=image/jpeg:https://lecadranensues.fr/wp-content/uploads/2025/06/nordine-ganso.jpg
END:VEVENT
BEGIN:VEVENT
DTSTART;TZID=Europe/Paris:20251018T100000
DTEND;TZID=Europe/Paris:20251019T170000
DTSTAMP:20260420T042545
CREATED:20250528T120909Z
LAST-MODIFIED:20250723T113720Z
UID:1560-1760781600-1760893200@lecadranensues.fr
SUMMARY:Ensuès game event
DESCRIPTION:SAMEDI 18 & DIMANCHE 19 OCTOBRE : ENSUES GAME EVENT \nVenez profiter d’un week-end entièrement dédié aux jeux sous toutes leurs formes ! \n\nDu Gaming avec l’association Outlows Gamingpour une plongée dans le monde des 1ères consoles de jeux vidéo : Neo-Geo\, Master System\, NES… (Inscriptions aux différents tournois Gaming en cliquant ici )\nDe la réalité virtuelle avec la mise à disposition de casques pour vous déplacer ou interagir avec des objets…\nDu E-sport avec 3 compétitions à vivre en direct sur grand écran : ROCKET LEAGUE\, SMASH BROS et FC25.\nDu Rubik’s Cube avec plusieurs tournois officiels supervisés par WCA (Inscriptions pour la compétition en cliquant ici).\nDes jeux de société à partager avec l’association « Tour de Jeu ».\nDes jeux de rôles proposés par l’équipe du Centre de Loisirs.\nVous pourrez également jouer à Super Mario Kart et participer à des Blind Test Gaming.\n\nL’ensemble de ces animations et démonstrations s’adressent à tous les publics et tous les âges\, néophytes ou spécialistes. Elles vous sont proposées par le Service Loisirs Jeunesse de la Ville en partenariat avec « Outlaws Gaming »\, « Tour de Jeu » et la « World Cube Association ». \nBuvette et petite restauration sur place – Entrée libre tout le week-end \nInscriptions pour la compétition de Rubik’s Cube en cliquant ici \nInscriptions aux différents tournois Gaming en cliquant ici 
URL:https://lecadranensues.fr/event/ensues-game-event/
LOCATION:Salle de Spectacle du Cadran\, Le Cadran\, Ensuès-la-Redonne\, 13820\, France
CATEGORIES:Festival
ATTACH;FMTTYPE=image/jpeg:https://lecadranensues.fr/wp-content/uploads/2025/05/Design-sans-titre-3.jpg
END:VEVENT
BEGIN:VEVENT
DTSTART;TZID=Europe/Paris:20251031T140000
DTEND;TZID=Europe/Paris:20251031T170000
DTSTAMP:20260420T042545
CREATED:20250616T144730Z
LAST-MODIFIED:20250616T144730Z
UID:1574-1761919200-1761930000@lecadranensues.fr
SUMMARY:Halloween : animations et fête costumée
DESCRIPTION:Cette année\, c’est un véritable Halloween à partager en famille. Parents\, enfants et ados vont pouvoir conjointement profiter de la fête ! Deux conditions très simples à remplir : l’envie de s’amuser et le déguisement ! \nLe Cadran sera le temps d’un après-midi le terrain de jeu des déterreurs de cadavres\, fantômes\, vampires et autres sorcières. \nVenez découvrir les divers ateliers qui vous seront proposés\, puis profiter d’un goûter et de l’élection des costumes les plus terrifiants. \nBien d’autres surprises vous attendent et l’entrée est libre. \nLe programme détaillé et les modalités d’inscription vous seront précisés ultérieurement.
URL:https://lecadranensues.fr/event/halloween-animations-et-fete-costumee/
ATTACH;FMTTYPE=image/jpeg:https://lecadranensues.fr/wp-content/uploads/2025/06/IMG_9177.jpg
END:VEVENT
END:VCALENDAR