BEGIN:VCALENDAR
VERSION:2.0
PRODID:-//lecadranensues.fr - ECPv6.8.2.1//NONSGML v1.0//EN
CALSCALE:GREGORIAN
METHOD:PUBLISH
X-WR-CALNAME:lecadranensues.fr
X-ORIGINAL-URL:https://lecadranensues.fr
X-WR-CALDESC:Évènements pour lecadranensues.fr
REFRESH-INTERVAL;VALUE=DURATION:PT1H
X-Robots-Tag:noindex
X-PUBLISHED-TTL:PT1H
BEGIN:VTIMEZONE
TZID:Europe/Paris
BEGIN:DAYLIGHT
TZOFFSETFROM:+0100
TZOFFSETTO:+0200
TZNAME:CEST
DTSTART:20260329T010000
END:DAYLIGHT
BEGIN:STANDARD
TZOFFSETFROM:+0200
TZOFFSETTO:+0100
TZNAME:CET
DTSTART:20261025T010000
END:STANDARD
END:VTIMEZONE
BEGIN:VEVENT
DTSTART;TZID=Europe/Paris:20260207T203000
DTEND;TZID=Europe/Paris:20260207T220000
DTSTAMP:20260419T230150
CREATED:20250616T144619Z
LAST-MODIFIED:20251006T083415Z
UID:1601-1770496200-1770501600@lecadranensues.fr
SUMMARY:Mathieu Stepson
DESCRIPTION:Venez assister à un spectacle interactif qui ravira tous les membres de la famille ! Plus qu’un spectacle\, une expérience… \nMathieu Stepson plonge le public dans une ambiance fascinante. Grâce à des images remontant au matin même\, le spectateur découvre que le magicien a l’impression d’avoir déjà rêvé ce spectacle. Mais était-ce vraiment un rêve ? Un élément troublant sème le doute… Mathieu décide alors de jouer avec l’imprévisible pour démêler le vrai du faux et pour vérifier ses souvenirs… Notre magicien fait partie de cette génération d’illusionnistes très en vogue qui aura marqué de son empreinte la saison 12 d’incroyable talent sur M6\, sans compter ses nombreux prix au championnat de France de Magie. Sur scène\, il propose des séquences qui mêlent illusion et mentalisme\, où le mystère et l’émotion se conjuguent à chaque instant. \n\nTarif plein : 28€\nTarif réduit : 21€\n-12 ans : 14€\nFidélité : 17€\n\nAssis numéroté \nBilletterie en ligne ou en Mairie.
URL:https://lecadranensues.fr/event/mathieu-stepson-imprevisible/
LOCATION:Salle de Spectacle du Cadran\, Le Cadran\, Ensuès-la-Redonne\, 13820\, France
CATEGORIES:Spectacle
ATTACH;FMTTYPE=image/jpeg:https://lecadranensues.fr/wp-content/uploads/2025/09/MathieuStepson_NouvelleAffiche40x60_tour-scaled.jpg
END:VEVENT
END:VCALENDAR