BEGIN:VCALENDAR
VERSION:2.0
PRODID:-//lecadranensues.fr - ECPv6.8.2.1//NONSGML v1.0//EN
CALSCALE:GREGORIAN
METHOD:PUBLISH
X-ORIGINAL-URL:https://lecadranensues.fr
X-WR-CALDESC:Évènements pour lecadranensues.fr
REFRESH-INTERVAL;VALUE=DURATION:PT1H
X-Robots-Tag:noindex
X-PUBLISHED-TTL:PT1H
BEGIN:VTIMEZONE
TZID:Europe/Paris
BEGIN:DAYLIGHT
TZOFFSETFROM:+0100
TZOFFSETTO:+0200
TZNAME:CEST
DTSTART:20260329T010000
END:DAYLIGHT
BEGIN:STANDARD
TZOFFSETFROM:+0200
TZOFFSETTO:+0100
TZNAME:CET
DTSTART:20261025T010000
END:STANDARD
END:VTIMEZONE
BEGIN:VEVENT
DTSTART;TZID=Europe/Paris:20260329T150000
DTEND;TZID=Europe/Paris:20260329T163000
DTSTAMP:20260420T015800
CREATED:20250616T144552Z
LAST-MODIFIED:20260310T085723Z
UID:1613-1774796400-1774801800@lecadranensues.fr
SUMMARY:Océania\, la légende tahitienne
DESCRIPTION:Bienvenue dans le petit village de Faanui au centre de l’île appelée aujourd’hui Bora Bora. \nDécouvrez les aventures trépidantes de la princesse qui doit braver mille dangers pour sauver l’ensemble des îles tahitiennes. Pour cela\, il lui faut convaincre le dieu Ta’Aroa de l’accompagner dans cette aventure car seule Oar Moa\, sa rame sacrée peut se frayer un chemin pour arriver à leur destination finale. Leur objectif\, libérer la déesse de la mer et de la terre\, Namaka\, de sa prison de feu. \nInspiré de la mythologie tahitienne\, ce spectacle raconte l’histoire d’une jeune fille qui doit affronter de redoutables créatures pour sauver son peuple. Les enfants comme les adultes seront captivés par son histoire qui incarne le courage\, la détermination et la solidarité. \nTarif unique : 14€ \nAssis numéroté \nBilletterie en ligne ou en Mairie.
URL:https://lecadranensues.fr/event/oceania-la-legende-tahitienne/
LOCATION:Salle de Spectacle du Cadran\, Le Cadran\, Ensuès-la-Redonne\, 13820\, France
CATEGORIES:Comédie Musicale,Spectacle
ATTACH;FMTTYPE=image/png:https://lecadranensues.fr/wp-content/uploads/2025/06/photo.png
END:VEVENT
END:VCALENDAR