BEGIN:VCALENDAR
VERSION:2.0
PRODID:-//lecadranensues.fr - ECPv6.8.2.1//NONSGML v1.0//EN
CALSCALE:GREGORIAN
METHOD:PUBLISH
X-WR-CALNAME:lecadranensues.fr
X-ORIGINAL-URL:https://lecadranensues.fr
X-WR-CALDESC:Évènements pour lecadranensues.fr
REFRESH-INTERVAL;VALUE=DURATION:PT1H
X-Robots-Tag:noindex
X-PUBLISHED-TTL:PT1H
BEGIN:VTIMEZONE
TZID:Europe/Paris
BEGIN:DAYLIGHT
TZOFFSETFROM:+0100
TZOFFSETTO:+0200
TZNAME:CEST
DTSTART:20260329T010000
END:DAYLIGHT
BEGIN:STANDARD
TZOFFSETFROM:+0200
TZOFFSETTO:+0100
TZNAME:CET
DTSTART:20261025T010000
END:STANDARD
END:VTIMEZONE
BEGIN:VEVENT
DTSTART;TZID=Europe/Paris:20260313T203000
DTEND;TZID=Europe/Paris:20260313T220000
DTSTAMP:20260419T212852
CREATED:20250616T144609Z
LAST-MODIFIED:20260310T085604Z
UID:1607-1773433800-1773439200@lecadranensues.fr
SUMMARY:Le ballet de Milan "Carmen"
DESCRIPTION:Le Ballet de Milan présente sa nouvelle chorégraphie sur la célèbre histoire de Carmen. Un ballet extraordinaire inspiré par le roman de P. Merimée et de l’opéra de Georges Bizet. \nÀ Séville\, Carmen\, jeune bohémienne et grande séductrice\, n’en est pas moins une femme rebelle : elle déclenche une bagarre dans la manufacture de tabac où elle travaille\, et se fait arrêter. Le brigadier Don José\, chargé de la mener en prison\, tombe sous son charme et la laisse s’échapper. Ne manquez pas cet opéra que Bizet transfigure : s’il en retient la vivacité\, le comique est fortement tempéré par le tragique de l’histoire de Mérimée. Carmen reste un symbole de la séduction\, de la féminité\, de la passion… Une histoire qui fascine toujours…. \nBallet en 2 actes sur une musique de Georges Bizet \, Chorégraphie : Agnese Omodei Salè – Federico Veratti\, Costumes Federico Veratti\, Scénographie Marco Pesta. \n\nTarif plein : 28€\nTarif réduit : 21€\nFidélité : 17€\n\nAssis numéroté \nBilletterie en ligne ou en Mairie.
URL:https://lecadranensues.fr/event/le-ballet-de-milan-carmen/
LOCATION:Salle de Spectacle du Cadran\, Le Cadran\, Ensuès-la-Redonne\, 13820\, France
CATEGORIES:Danse
ATTACH;FMTTYPE=image/jpeg:https://lecadranensues.fr/wp-content/uploads/2025/06/AX5A5797.jpg
END:VEVENT
END:VCALENDAR