BEGIN:VCALENDAR
VERSION:2.0
PRODID:-//lecadranensues.fr - ECPv6.8.2.1//NONSGML v1.0//EN
CALSCALE:GREGORIAN
METHOD:PUBLISH
X-ORIGINAL-URL:https://lecadranensues.fr
X-WR-CALDESC:Évènements pour lecadranensues.fr
REFRESH-INTERVAL;VALUE=DURATION:PT1H
X-Robots-Tag:noindex
X-PUBLISHED-TTL:PT1H
BEGIN:VTIMEZONE
TZID:Europe/Paris
BEGIN:DAYLIGHT
TZOFFSETFROM:+0100
TZOFFSETTO:+0200
TZNAME:CEST
DTSTART:20250330T010000
END:DAYLIGHT
BEGIN:STANDARD
TZOFFSETFROM:+0200
TZOFFSETTO:+0100
TZNAME:CET
DTSTART:20251026T010000
END:STANDARD
END:VTIMEZONE
BEGIN:VEVENT
DTSTART;TZID=Europe/Paris:20251122T190000
DTEND;TZID=Europe/Paris:20251122T230000
DTSTAMP:20260420T042545
CREATED:20250616T144700Z
LAST-MODIFIED:20250616T144700Z
UID:1586-1763838000-1763852400@lecadranensues.fr
SUMMARY:Beaujolais Nouveau
DESCRIPTION:En partenariat avec le Comité des fêtes \nProfitez de cette soirée dansante et festive pour venir fêter la traditionnelle arrivée du Beaujolais Nouveau autour d’un repas dansant. Attention pensez à réserver\, le nombre de places étant limité. \nTarifs \n\nAdhérent 25€\nNon Adhérent 30€\n\nInfos et réservations 06 01 00 23 62 ou comdefet@yahoo.com
URL:https://lecadranensues.fr/event/beaujolais-nouveau/
ATTACH;FMTTYPE=image/jpeg:https://lecadranensues.fr/wp-content/uploads/2022/07/iStock-1396385667-scaled.jpg
END:VEVENT
END:VCALENDAR